BEGIN:VCALENDAR
VERSION:2.0
PRODID:-//Investing In Children - ECPv6.15.13//NONSGML v1.0//EN
CALSCALE:GREGORIAN
METHOD:PUBLISH
X-WR-CALNAME:Investing In Children
X-ORIGINAL-URL:https://investinginchildren.net
X-WR-CALDESC:Events for Investing In Children
REFRESH-INTERVAL;VALUE=DURATION:PT1H
X-Robots-Tag:noindex
X-PUBLISHED-TTL:PT1H
BEGIN:VTIMEZONE
TZID:Europe/London
BEGIN:DAYLIGHT
TZOFFSETFROM:+0000
TZOFFSETTO:+0100
TZNAME:BST
DTSTART:20250330T010000
END:DAYLIGHT
BEGIN:STANDARD
TZOFFSETFROM:+0100
TZOFFSETTO:+0000
TZNAME:GMT
DTSTART:20251026T010000
END:STANDARD
BEGIN:DAYLIGHT
TZOFFSETFROM:+0000
TZOFFSETTO:+0100
TZNAME:BST
DTSTART:20260329T010000
END:DAYLIGHT
BEGIN:STANDARD
TZOFFSETFROM:+0100
TZOFFSETTO:+0000
TZNAME:GMT
DTSTART:20261025T010000
END:STANDARD
BEGIN:DAYLIGHT
TZOFFSETFROM:+0000
TZOFFSETTO:+0100
TZNAME:BST
DTSTART:20270328T010000
END:DAYLIGHT
BEGIN:STANDARD
TZOFFSETFROM:+0100
TZOFFSETTO:+0000
TZNAME:GMT
DTSTART:20271031T010000
END:STANDARD
END:VTIMEZONE
BEGIN:VEVENT
DTSTART;TZID=Europe/London:20260420T163000
DTEND;TZID=Europe/London:20260420T183000
DTSTAMP:20260420T112039
CREATED:20260320T110809Z
LAST-MODIFIED:20260323T133811Z
UID:3355-1776702600-1776709800@investinginchildren.net
SUMMARY:Art Cafe - Older Group
DESCRIPTION:We are a group of children and young people who come together to express and be ourselves. Our group is a way to get creative\, in-tune with your mind\, feel better in yourself and also make friends. We work on a range of tasks to communicate different messages and projects through the use of art. Young group is aged 5 to 11 years. Older group is aged 12 to 17 years.
URL:https://investinginchildren.net/event/art-cafe-older-group-2/
LOCATION:Sjovoll Centre\, Front Street\, Framwellgate Moor\, Durham\, DH1 5BL\, United Kingdom
END:VEVENT
END:VCALENDAR