BEGIN:VCALENDAR
VERSION:2.0
PRODID:-//Investing In Children - ECPv6.15.20//NONSGML v1.0//EN
CALSCALE:GREGORIAN
METHOD:PUBLISH
X-WR-CALNAME:Investing In Children
X-ORIGINAL-URL:https://investinginchildren.net
X-WR-CALDESC:Events for Investing In Children
REFRESH-INTERVAL;VALUE=DURATION:PT1H
X-Robots-Tag:noindex
X-PUBLISHED-TTL:PT1H
BEGIN:VTIMEZONE
TZID:Europe/London
BEGIN:DAYLIGHT
TZOFFSETFROM:+0000
TZOFFSETTO:+0100
TZNAME:BST
DTSTART:20240331T010000
END:DAYLIGHT
BEGIN:STANDARD
TZOFFSETFROM:+0100
TZOFFSETTO:+0000
TZNAME:GMT
DTSTART:20241027T010000
END:STANDARD
BEGIN:DAYLIGHT
TZOFFSETFROM:+0000
TZOFFSETTO:+0100
TZNAME:BST
DTSTART:20250330T010000
END:DAYLIGHT
BEGIN:STANDARD
TZOFFSETFROM:+0100
TZOFFSETTO:+0000
TZNAME:GMT
DTSTART:20251026T010000
END:STANDARD
BEGIN:DAYLIGHT
TZOFFSETFROM:+0000
TZOFFSETTO:+0100
TZNAME:BST
DTSTART:20260329T010000
END:DAYLIGHT
BEGIN:STANDARD
TZOFFSETFROM:+0100
TZOFFSETTO:+0000
TZNAME:GMT
DTSTART:20261025T010000
END:STANDARD
END:VTIMEZONE
BEGIN:VEVENT
DTSTART;TZID=Europe/London:20251110T163000
DTEND;TZID=Europe/London:20251110T183000
DTSTAMP:20260423T110548
CREATED:20251104T100811Z
LAST-MODIFIED:20251104T100811Z
UID:3109-1762792200-1762799400@investinginchildren.net
SUMMARY:Art Cafe
DESCRIPTION:We are a group of children and young people who come together to express and be ourselves. Our group is a way to get creative\, in-tune with your mind\, feel better in yourself and also make friends. We work on a range of tasks to communicate different messages and projects through the use of art.
URL:https://investinginchildren.net/event/art-cafe-54/
LOCATION:Sjovoll Centre\, Front Street\, Framwellgate Moor\, Durham\, DH1 5BL\, United Kingdom
END:VEVENT
BEGIN:VEVENT
DTSTART;TZID=Europe/London:20251104T163000
DTEND;TZID=Europe/London:20251104T180000
DTSTAMP:20260423T110548
CREATED:20251104T100635Z
LAST-MODIFIED:20251104T100635Z
UID:3107-1762273800-1762279200@investinginchildren.net
SUMMARY:eXtreme Group
DESCRIPTION:We are a group for young people in Co. Durham with SEND. We meet to share ideas and help to make SEND services better for young people. eXtreme members attend events on behalf of IiC\, organise events and work with Durham County Council and the NHS! We enjoy having their voice heard\, being respected\, meeting new people and building their confidence.
URL:https://investinginchildren.net/event/extreme-group-11/
LOCATION:Sjovoll Centre\, Front Street\, Framwellgate Moor\, Durham\, DH1 5BL\, United Kingdom
END:VEVENT
BEGIN:VEVENT
DTSTART;TZID=Europe/London:20251030T173000
DTEND;TZID=Europe/London:20251030T193000
DTSTAMP:20260423T110548
CREATED:20250923T090735Z
LAST-MODIFIED:20250923T090735Z
UID:3049-1761845400-1761852600@investinginchildren.net
SUMMARY:CiCC Older Group (13 & over)
DESCRIPTION:
URL:https://investinginchildren.net/event/cicc-older-group-13-over-5/
LOCATION:Sjovoll Centre\, Front Street\, Framwellgate Moor\, Durham\, DH1 5BL\, United Kingdom
END:VEVENT
BEGIN:VEVENT
DTSTART;TZID=Europe/London:20251027T170000
DTEND;TZID=Europe/London:20251027T180000
DTSTAMP:20260423T110548
CREATED:20250923T090654Z
LAST-MODIFIED:20250923T090654Z
UID:3047-1761584400-1761588000@investinginchildren.net
SUMMARY:My Story & Me
DESCRIPTION:
URL:https://investinginchildren.net/event/my-story-me/
LOCATION:Sjovoll Centre\, Front Street\, Framwellgate Moor\, Durham\, DH1 5BL\, United Kingdom
END:VEVENT
BEGIN:VEVENT
DTSTART;TZID=Europe/London:20251027T163000
DTEND;TZID=Europe/London:20251027T183000
DTSTAMP:20260423T110548
CREATED:20250923T090617Z
LAST-MODIFIED:20250923T090617Z
UID:3045-1761582600-1761589800@investinginchildren.net
SUMMARY:Art Café
DESCRIPTION:
URL:https://investinginchildren.net/event/art-cafe-53/
LOCATION:Sjovoll Centre\, Front Street\, Framwellgate Moor\, Durham\, DH1 5BL\, United Kingdom
END:VEVENT
BEGIN:VEVENT
DTSTART;TZID=Europe/London:20251026T100000
DTEND;TZID=Europe/London:20251026T120000
DTSTAMP:20260423T110548
CREATED:20250923T090531Z
LAST-MODIFIED:20250923T090531Z
UID:3043-1761472800-1761480000@investinginchildren.net
SUMMARY:T1KZ Group Session
DESCRIPTION:
URL:https://investinginchildren.net/event/t1kz-group-session-10/
LOCATION:Chester-le-Street Methodist Church\, Cornerstones\, Chester le Street\, DH3 3TF\, United Kingdom
END:VEVENT
BEGIN:VEVENT
DTSTART;TZID=Europe/London:20251026T100000
DTEND;TZID=Europe/London:20251026T120000
DTSTAMP:20260423T110548
CREATED:20241126T130511Z
LAST-MODIFIED:20241126T130511Z
UID:2568-1761472800-1761480000@investinginchildren.net
SUMMARY:T1KZ Group Session
DESCRIPTION:
URL:https://investinginchildren.net/event/t1kz-group-session-9/
LOCATION:Chester-le-Street Methodist Church\, Cornerstones\, Chester le Street\, DH3 3TF\, United Kingdom
END:VEVENT
BEGIN:VEVENT
DTSTART;TZID=Europe/London:20251022T173000
DTEND;TZID=Europe/London:20251022T190000
DTSTAMP:20260423T110548
CREATED:20250923T090451Z
LAST-MODIFIED:20250923T090451Z
UID:3041-1761154200-1761159600@investinginchildren.net
SUMMARY:CiCC Younger Group (13 & under)
DESCRIPTION:
URL:https://investinginchildren.net/event/cicc-younger-group-13-under-6/
LOCATION:Sjovoll Centre\, Front Street\, Framwellgate Moor\, Durham\, DH1 5BL\, United Kingdom
END:VEVENT
BEGIN:VEVENT
DTSTART;TZID=Europe/London:20251020T163000
DTEND;TZID=Europe/London:20251020T183000
DTSTAMP:20260423T110548
CREATED:20250923T090405Z
LAST-MODIFIED:20250923T090405Z
UID:3039-1760977800-1760985000@investinginchildren.net
SUMMARY:Art Café
DESCRIPTION:
URL:https://investinginchildren.net/event/art-cafe-52/
LOCATION:Sjovoll Centre\, Front Street\, Framwellgate Moor\, Durham\, DH1 5BL\, United Kingdom
END:VEVENT
BEGIN:VEVENT
DTSTART;TZID=Europe/London:20251014T163000
DTEND;TZID=Europe/London:20251014T180000
DTSTAMP:20260423T110548
CREATED:20250923T090334Z
LAST-MODIFIED:20250923T090334Z
UID:3037-1760459400-1760464800@investinginchildren.net
SUMMARY:Decisions Group
DESCRIPTION:
URL:https://investinginchildren.net/event/decisions-group-14/
LOCATION:Sjovoll Centre\, Front Street\, Framwellgate Moor\, Durham\, DH1 5BL\, United Kingdom
END:VEVENT
BEGIN:VEVENT
DTSTART;TZID=Europe/London:20251013T163000
DTEND;TZID=Europe/London:20251013T183000
DTSTAMP:20260423T110548
CREATED:20250923T090254Z
LAST-MODIFIED:20250923T090254Z
UID:3035-1760373000-1760380200@investinginchildren.net
SUMMARY:Art Café
DESCRIPTION:
URL:https://investinginchildren.net/event/art-cafe-51/
LOCATION:Sjovoll Centre\, Front Street\, Framwellgate Moor\, Durham\, DH1 5BL\, United Kingdom
END:VEVENT
BEGIN:VEVENT
DTSTART;TZID=Europe/London:20251007T163000
DTEND;TZID=Europe/London:20251007T180000
DTSTAMP:20260423T110548
CREATED:20250923T085201Z
LAST-MODIFIED:20250923T085201Z
UID:3031-1759854600-1759860000@investinginchildren.net
SUMMARY:eXtreme Group
DESCRIPTION:
URL:https://investinginchildren.net/event/extreme-group-10/
LOCATION:Sjovoll Centre\, Front Street\, Framwellgate Moor\, Durham\, DH1 5BL\, United Kingdom
END:VEVENT
BEGIN:VEVENT
DTSTART;TZID=Europe/London:20251007T163000
DTEND;TZID=Europe/London:20251007T173000
DTSTAMP:20260423T110548
CREATED:20250923T085115Z
LAST-MODIFIED:20250923T085115Z
UID:3029-1759854600-1759858200@investinginchildren.net
SUMMARY:T1KZ Steering Group
DESCRIPTION:
URL:https://investinginchildren.net/event/t1kz-steering-group/
LOCATION:Sjovoll Centre\, Front Street\, Framwellgate Moor\, Durham\, DH1 5BL\, United Kingdom
END:VEVENT
BEGIN:VEVENT
DTSTART;TZID=Europe/London:20251006T163000
DTEND;TZID=Europe/London:20251006T183000
DTSTAMP:20260423T110548
CREATED:20250923T085008Z
LAST-MODIFIED:20250923T085029Z
UID:3026-1759768200-1759775400@investinginchildren.net
SUMMARY:Art Café
DESCRIPTION:
URL:https://investinginchildren.net/event/art-cage/
LOCATION:Sjovoll Centre\, Front Street\, Framwellgate Moor\, Durham\, DH1 5BL\, United Kingdom
END:VEVENT
BEGIN:VEVENT
DTSTART;TZID=Europe/London:20250929T163000
DTEND;TZID=Europe/London:20250929T183000
DTSTAMP:20260423T110548
CREATED:20250905T081255Z
LAST-MODIFIED:20250905T081255Z
UID:3019-1759163400-1759170600@investinginchildren.net
SUMMARY:Art Café
DESCRIPTION:
URL:https://investinginchildren.net/event/art-cafe-50/
LOCATION:Sjovoll Centre\, Front Street\, Framwellgate Moor\, Durham\, DH1 5BL\, United Kingdom
END:VEVENT
BEGIN:VEVENT
DTSTART;TZID=Europe/London:20250928T100000
DTEND;TZID=Europe/London:20250928T120000
DTSTAMP:20260423T110548
CREATED:20241126T130437Z
LAST-MODIFIED:20241126T130437Z
UID:2566-1759053600-1759060800@investinginchildren.net
SUMMARY:T1KZ Group Session
DESCRIPTION:
URL:https://investinginchildren.net/event/t1kz-group-session-8/
LOCATION:Chester-le-Street Methodist Church\, Cornerstones\, Chester le Street\, DH3 3TF\, United Kingdom
END:VEVENT
BEGIN:VEVENT
DTSTART;TZID=Europe/London:20250925T173000
DTEND;TZID=Europe/London:20250925T193000
DTSTAMP:20260423T110548
CREATED:20250905T081216Z
LAST-MODIFIED:20250905T081216Z
UID:3017-1758821400-1758828600@investinginchildren.net
SUMMARY:CiCC Older Group (13 & over)
DESCRIPTION:
URL:https://investinginchildren.net/event/cicc-older-group-13-over-4/
LOCATION:Sjovoll Centre\, Front Street\, Framwellgate Moor\, Durham\, DH1 5BL\, United Kingdom
END:VEVENT
BEGIN:VEVENT
DTSTART;TZID=Europe/London:20250922T163000
DTEND;TZID=Europe/London:20250922T183000
DTSTAMP:20260423T110548
CREATED:20250905T081127Z
LAST-MODIFIED:20250905T081127Z
UID:3015-1758558600-1758565800@investinginchildren.net
SUMMARY:Art Café
DESCRIPTION:
URL:https://investinginchildren.net/event/art-cafe-49/
LOCATION:Sjovoll Centre\, Front Street\, Framwellgate Moor\, Durham\, DH1 5BL\, United Kingdom
END:VEVENT
BEGIN:VEVENT
DTSTART;TZID=Europe/London:20250917T173000
DTEND;TZID=Europe/London:20250917T190000
DTSTAMP:20260423T110548
CREATED:20250905T081033Z
LAST-MODIFIED:20250905T081033Z
UID:3013-1758130200-1758135600@investinginchildren.net
SUMMARY:CiCC Younger Group (13 & under)
DESCRIPTION:
URL:https://investinginchildren.net/event/cicc-younger-group-13-under-5/
LOCATION:Sjovoll Centre\, Front Street\, Framwellgate Moor\, Durham\, DH1 5BL\, United Kingdom
END:VEVENT
BEGIN:VEVENT
DTSTART;TZID=Europe/London:20250915T163000
DTEND;TZID=Europe/London:20250915T183000
DTSTAMP:20260423T110548
CREATED:20250905T080946Z
LAST-MODIFIED:20250905T080946Z
UID:3011-1757953800-1757961000@investinginchildren.net
SUMMARY:Art Café
DESCRIPTION:
URL:https://investinginchildren.net/event/art-cafe-48/
LOCATION:Sjovoll Centre\, Front Street\, Framwellgate Moor\, Durham\, DH1 5BL\, United Kingdom
END:VEVENT
BEGIN:VEVENT
DTSTART;TZID=Europe/London:20250909T163000
DTEND;TZID=Europe/London:20250909T180000
DTSTAMP:20260423T110548
CREATED:20250905T080911Z
LAST-MODIFIED:20250905T080911Z
UID:3009-1757435400-1757440800@investinginchildren.net
SUMMARY:Decisions Group
DESCRIPTION:
URL:https://investinginchildren.net/event/decisions-group-13/
LOCATION:Sjovoll Centre\, Front Street\, Framwellgate Moor\, Durham\, DH1 5BL\, United Kingdom
END:VEVENT
BEGIN:VEVENT
DTSTART;TZID=Europe/London:20250908T163000
DTEND;TZID=Europe/London:20250908T183000
DTSTAMP:20260423T110548
CREATED:20250905T080823Z
LAST-MODIFIED:20250905T080823Z
UID:3007-1757349000-1757356200@investinginchildren.net
SUMMARY:Art Café
DESCRIPTION:
URL:https://investinginchildren.net/event/art-cafe-47/
LOCATION:Sjovoll Centre\, Front Street\, Framwellgate Moor\, Durham\, DH1 5BL\, United Kingdom
END:VEVENT
BEGIN:VEVENT
DTSTART;TZID=Europe/London:20250828T080000
DTEND;TZID=Europe/London:20250828T170000
DTSTAMP:20260423T110548
CREATED:20250728T094753Z
LAST-MODIFIED:20250728T094753Z
UID:3004-1756368000-1756400400@investinginchildren.net
SUMMARY:CiCC Younger & Older Group Joint Meeting
DESCRIPTION:
URL:https://investinginchildren.net/event/cicc-younger-older-group-joint-meeting/
LOCATION:Sjovoll Centre\, Front Street\, Framwellgate Moor\, Durham\, DH1 5BL\, United Kingdom
END:VEVENT
BEGIN:VEVENT
DTSTART;TZID=Europe/London:20250819T100000
DTEND;TZID=Europe/London:20250819T160000
DTSTAMP:20260423T110548
CREATED:20250728T094714Z
LAST-MODIFIED:20250728T094714Z
UID:3002-1755597600-1755619200@investinginchildren.net
SUMMARY:Peer Mentor Training (Fully Booked)
DESCRIPTION:
URL:https://investinginchildren.net/event/peer-mentor-training-fully-booked/
LOCATION:Sjovoll Centre\, Front Street\, Framwellgate Moor\, Durham\, DH1 5BL\, United Kingdom
END:VEVENT
BEGIN:VEVENT
DTSTART;TZID=Europe/London:20250818T163000
DTEND;TZID=Europe/London:20250818T183000
DTSTAMP:20260423T110548
CREATED:20250728T094620Z
LAST-MODIFIED:20250728T094620Z
UID:3000-1755534600-1755541800@investinginchildren.net
SUMMARY:Art Café
DESCRIPTION:
URL:https://investinginchildren.net/event/art-cafe-46/
LOCATION:Sjovoll Centre\, Front Street\, Framwellgate Moor\, Durham\, DH1 5BL\, United Kingdom
END:VEVENT
BEGIN:VEVENT
DTSTART;TZID=Europe/London:20250812T133000
DTEND;TZID=Europe/London:20250812T150000
DTSTAMP:20260423T110548
CREATED:20250728T094526Z
LAST-MODIFIED:20250728T094526Z
UID:2997-1755005400-1755010800@investinginchildren.net
SUMMARY:eXtreme Group
DESCRIPTION:
URL:https://investinginchildren.net/event/extreme-group-9/
LOCATION:King George V Park\, Framwellgate Moor\, DH1 5BL\, The Old Parsonage\, Front Street\, Framwellgate Moor\, DH1 5BL\, United Kingdom
END:VEVENT
BEGIN:VEVENT
DTSTART;TZID=Europe/London:20250812T103000
DTEND;TZID=Europe/London:20250812T123000
DTSTAMP:20260423T110548
CREATED:20250728T094309Z
LAST-MODIFIED:20250728T094309Z
UID:2995-1754994600-1755001800@investinginchildren.net
SUMMARY:Decisions Group
DESCRIPTION:
URL:https://investinginchildren.net/event/decisions-group-12/
LOCATION:Sjovoll Centre\, Front Street\, Framwellgate Moor\, Durham\, DH1 5BL\, United Kingdom
END:VEVENT
BEGIN:VEVENT
DTSTART;TZID=Europe/London:20250811T163000
DTEND;TZID=Europe/London:20250811T183000
DTSTAMP:20260423T110548
CREATED:20250728T094221Z
LAST-MODIFIED:20250728T094221Z
UID:2993-1754929800-1754937000@investinginchildren.net
SUMMARY:Art Café
DESCRIPTION:
URL:https://investinginchildren.net/event/art-cafe-45/
LOCATION:Sjovoll Centre\, Front Street\, Framwellgate Moor\, Durham\, DH1 5BL\, United Kingdom
END:VEVENT
BEGIN:VEVENT
DTSTART;TZID=Europe/London:20250806T170000
DTEND;TZID=Europe/London:20250806T183000
DTSTAMP:20260423T110548
CREATED:20250728T094132Z
LAST-MODIFIED:20250728T094132Z
UID:2991-1754499600-1754505000@investinginchildren.net
SUMMARY:LGBTQIA+
DESCRIPTION:
URL:https://investinginchildren.net/event/lgbtqia-6/
LOCATION:Sjovoll Centre\, Front Street\, Framwellgate Moor\, Durham\, DH1 5BL\, United Kingdom
END:VEVENT
BEGIN:VEVENT
DTSTART;TZID=Europe/London:20250806T140000
DTEND;TZID=Europe/London:20250806T170000
DTSTAMP:20260423T110548
CREATED:20250728T094042Z
LAST-MODIFIED:20250728T094042Z
UID:2989-1754488800-1754499600@investinginchildren.net
SUMMARY:Interview Training
DESCRIPTION:
URL:https://investinginchildren.net/event/interview-training/
LOCATION:Sjovoll Centre\, Front Street\, Framwellgate Moor\, Durham\, DH1 5BL\, United Kingdom
END:VEVENT
END:VCALENDAR